BEGIN:VCALENDAR
VERSION:2.0
TZID:Europe/London
BEGIN:VEVENT
CLASS:PUBLIC
DESCRIPTION:The second in the EPC's series of webinars for its 2021 Congress on the theme of 'A better world' will feature Shadow Minister for Science, Research & Digital Chi Onwurah MP.
DTSTART:20210615T150000
DTEND:20210615T160000
LOCATION:Online via Zoom
SUMMARY;LANGUAGE=en-us:EPC Annual Congress 2021 – A Better World: Chi Onwurah MP on ‘A new kind of engineering’
END:VEVENT
END:VCALENDAR