BEGIN:VCALENDAR
VERSION:2.0
TZID:Europe/London
BEGIN:VEVENT
CLASS:PUBLIC
DESCRIPTION:The 2015 Engineering Professors' Council Annual Congress 2015 took place at the University of Salford's MediaCity Campus on 14/15 April 2015 with the theme: Skills for Impact.
DTSTART:20150414T000000
DTEND:20150415T000000
LOCATION:MediaCity\, Salford
SUMMARY;LANGUAGE=en-us:Engineering Professors’ Council Annual Congress 2015
END:VEVENT
END:VCALENDAR