BEGIN:VCALENDAR
VERSION:2.0
TZID:Europe/London
BEGIN:VEVENT
CLASS:PUBLIC
DESCRIPTION:
DTSTART:20200522T000000
DTEND:20200522T000000
LOCATION:
SUMMARY;LANGUAGE=en-us:Accreditation under lockdown
END:VEVENT
END:VCALENDAR