BEGIN:VCALENDAR
VERSION:2.0
TZID:Europe/London
BEGIN:VEVENT
CLASS:PUBLIC
DESCRIPTION:The summit will bring together key stakeholders from government, business and academia to establish how the UK is preparing to take the lead in the global green skills race. Whilst exploring current projects and initiatives the summit will provide the ideal platform to address skills gaps, discuss urgent concerns and develop a strategy to give […]
DTSTART:20121122T000000
DTEND:20121122T000000
LOCATION:Queen Elizabeth II Conference Centre
SUMMARY;LANGUAGE=en-us:Green skills for Green Jobs Summit
END:VEVENT
END:VCALENDAR