BEGIN:VCALENDAR
VERSION:2.0
TZID:Europe/London
BEGIN:VEVENT
CLASS:PUBLIC
DESCRIPTION:The 2014 Vitae Researcher Development International Conference is being held on the 9-10 September in Manchester, UK The conference will address the strategic and practical implications of the following themes:  Policy developments relating to the doctoral education and employing researchers  Building institutional capacity for researchers’ professional development to maintain research excellence  Demonstrating the value of researcher development […]
DTSTART:20140909T000000
DTEND:20140910T000000
LOCATION:
SUMMARY;LANGUAGE=en-us:2014 Vitae Researcher Development International Conference
END:VEVENT
END:VCALENDAR