BEGIN:VCALENDAR
VERSION:2.0
TZID:Europe/London
BEGIN:VEVENT
CLASS:PUBLIC
DESCRIPTION:Brought to you by the Women’s Engineering Society in association with Aston University. Event flyer.
DTSTART:20131115T000000
DTEND:20131116T000000
LOCATION:Aston Business School Conference Centre: Aston University\, Birmingham\, B4 7ET\, United Kingdom
SUMMARY;LANGUAGE=en-us:Student Women Engineers 2 Day Conference
END:VEVENT
END:VCALENDAR