BEGIN:VCALENDAR
VERSION:2.0
TZID:Europe/London
BEGIN:VEVENT
CLASS:PUBLIC
DESCRIPTION:The 11th International Conference on Manufacturing Research (ICMR2013) The International Conference on Manufacturing Research is a major event for academics and industrialists engaged in manufacturing research.  Held annually in the UK since the late 1970s, the conference is renowned as a friendly and inclusive environment that brings together a broad community of researchers who share a […]
DTSTART:20130919T000000
DTEND:20130920T000000
LOCATION:Cranfield University: College Road\, Cranfield Bedfordshire\, MK43 0AL\, United Kingdom
SUMMARY;LANGUAGE=en-us:International Conference on Manufacturing Research 2013
END:VEVENT
END:VCALENDAR