BEGIN:VCALENDAR
VERSION:2.0
TZID:Europe/London
BEGIN:VEVENT
CLASS:PUBLIC
DESCRIPTION:The day will include sessions on: Assessment and Feedback, OER (Open Educational Resources), Teaching for Diversity, Facilitating Small Group Teaching, & Professional Development and the HEA.
DTSTART:20130708T000000
DTEND:20130708T000000
LOCATION:University College London: Gower Street\, London\, WC1E 6BT\, United Kingdom
SUMMARY;LANGUAGE=en-us:HEA STEM Event (Engineering and Materials): Workshop for postgraduate students who teach
END:VEVENT
END:VCALENDAR