BEGIN:VCALENDAR
VERSION:2.0
TZID:Europe/London
BEGIN:VEVENT
CLASS:PUBLIC
DESCRIPTION:The Engineering Professors' Council Annual Congress 2007 was held at the University of Leeds between the 27th and 28th March.
DTSTART:20070327T000000
DTEND:20070328T000000
LOCATION:The University of Leeds
SUMMARY;LANGUAGE=en-us:Engineering Professors’ Council Annual Congress 2007
END:VEVENT
END:VCALENDAR