BEGIN:VCALENDAR
VERSION:2.0
TZID:Europe/London
BEGIN:VEVENT
CLASS:PUBLIC
DESCRIPTION:As the Government concludes its National Curriculum review, this Westminster Higher Education Forum seminar focuses on the content of the new curriculum for Design and Technology (D&T) for each Key Stage, due to be introduced into schools from September 2014 – as well as the implementation challenges for schools. It will bring together key policymakers […]
DTSTART:20130213T000000
DTEND:20130213T000000
LOCATION:
SUMMARY;LANGUAGE=en-us:Westminster Higher Education Forum event: Reviewing the new Design and Technology Curriculum
END:VEVENT
END:VCALENDAR