BEGIN:VCALENDAR
VERSION:2.0
TZID:Europe/London
BEGIN:VEVENT
CLASS:PUBLIC
DESCRIPTION:T-levels are a set of qualifications offered in England where one T-level, a mix of classroom-based study and work placement, equivalent to 3 A-levels. They are appearing ever more regularly on UCAS applications, but should you admit those students? If not, what? And what should be done? This webinar will include: The findings of the […]
DTSTART:20260511T130000
DTEND:20260511T143000
LOCATION:
SUMMARY;LANGUAGE=en-us:Should you accept T-level students?
END:VEVENT
END:VCALENDAR