BEGIN:VCALENDAR
VERSION:2.0
TZID:Europe/London
BEGIN:VEVENT
CLASS:PUBLIC
DESCRIPTION:The UK & Ireland EERN (Engineering Education Research Network) is pleased to announce the Annual Symposium for 2026 hosted by The University of Sheffield. Building on the success of our previous events, colleagues are invited to submit abstracts for presentation on the Symposium theme of: Education vs Training: Redefining Engineering Formation for the Future.  Registration […]
DTSTART:20260709T000000
DTEND:20260710T000000
LOCATION:University of Sheffield
SUMMARY;LANGUAGE=en-us:UK&I EERN Annual Symposium 2026
END:VEVENT
END:VCALENDAR