BEGIN:VCALENDAR
VERSION:2.0
TZID:Europe/London
BEGIN:VEVENT
CLASS:PUBLIC
DESCRIPTION:The Engineering Council (EngC) and the European Network for Accreditation of Engineering Education (ENAEE)  President José Quadrado have organised an  “Introduction to EUR ACE ® Labels” event on 17 October 2025, 2pm – 4pm.
DTSTART:20251017T140000
DTEND:20251017T160000
LOCATION:Hybrid 
SUMMARY;LANGUAGE=en-us:The Engineering Council and the European Network for Accreditation of Engineering Education (ENAEE): Introduction to EUR ACE ® Labels
END:VEVENT
END:VCALENDAR