BEGIN:VCALENDAR
VERSION:2.0
TZID:Europe/London
BEGIN:VEVENT
CLASS:PUBLIC
DESCRIPTION:This year SEFI’s flagship annual conference will be held between 17th to 21st September at the Technical University of Denmark (Copenhagen/Lyngby) and will coincide with the 45th Anniversary of our organisation. • Our 2018 conference theme is Creativity, Innovation and Entrepreneurship for Engineering Education Excellence.  Development of creative, innovative and entrepreneurial competencies is a goal […]
DTSTART:20180917T000000
DTEND:20180921T000000
LOCATION:
SUMMARY;LANGUAGE=en-us:SEFI 2018 Annual Conference
END:VEVENT
END:VCALENDAR