BEGIN:VCALENDAR
VERSION:2.0
TZID:Europe/London
BEGIN:VEVENT
CLASS:PUBLIC
DESCRIPTION:This inclusion webinar will launch a brand-new Engineering Deaf Awareness Project (E-DAP) Toolkit, provide practical guidance, clear instructions, and actionable tips to help you embed inclusive practices in your work and showing how deaf awareness supports every student.
DTSTART:20250325T120000
DTEND:20250325T130000
LOCATION:Online via Zoom
SUMMARY;LANGUAGE=en-us:Being heard: How everyone benefits from deaf awareness
END:VEVENT
END:VCALENDAR