BEGIN:VCALENDAR
VERSION:2.0
TZID:Europe/London
BEGIN:VEVENT
CLASS:PUBLIC
DESCRIPTION:Plans are really shaping up for this inclusive in-person meet up of the EPC neuro-inclusion community. Be part of the movement for neuro-inclusive HE Engineering. Everyone is welcome. We look forward to seeing you there.
DTSTART:20250328T100000
DTEND:20250328T154500
LOCATION:NMITE Blackfriars Campus\, Blackfriars Street Hereford\, HR4 9HS. 
SUMMARY;LANGUAGE=en-us:All in for engineering – Neuro-inclusion in person meet-up
END:VEVENT
END:VCALENDAR