BEGIN:VCALENDAR
VERSION:2.0
TZID:Europe/London
BEGIN:VEVENT
CLASS:PUBLIC
DESCRIPTION:The annual Recruitment and Admissions Forum took place at the Manchester Metropolitan University on 15th November 2017 convened by EPC Recruitment and Admissions Sub-Committee chair, Dr Georgina Harris.
DTSTART:20171115T100000
DTEND:20171115T160000
LOCATION:Manchester Metropolitan University
SUMMARY;LANGUAGE=en-us:Recruitment & Admission Forum 2017
END:VEVENT
END:VCALENDAR