BEGIN:VCALENDAR
VERSION:2.0
TZID:Europe/London
BEGIN:VEVENT
CLASS:PUBLIC
DESCRIPTION:Registration is now open
DTSTART:20240609T180000
DTEND:20240609T190000
LOCATION:Cardiff University Centre for Student Life\, Park Place\, Cardiff\, CF10 3BB
SUMMARY;LANGUAGE=en-us:Public Lecture: Mark Drakeford on ‘Making a better future’
END:VEVENT
END:VCALENDAR