BEGIN:VCALENDAR
VERSION:2.0
TZID:Europe/London
BEGIN:VEVENT
CLASS:PUBLIC
DESCRIPTION:The UK & Ireland EERN is pleased to announce that their Annual Symposium is back ‘live and in person’ following their virtual events of recent times. This year’s Symposium will be hosted by WMG, University of Warwick.
DTSTART:20230601T000000
DTEND:20230602T000000
LOCATION:University of Warwick
SUMMARY;LANGUAGE=en-us:UK and Ireland Engineering Education Research Network Annual Symposium
END:VEVENT
END:VCALENDAR