BEGIN:VCALENDAR
VERSION:2.0
TZID:Europe/London
BEGIN:VEVENT
CLASS:PUBLIC
DESCRIPTION:Join us as we hear how the shortage of engineers is down to the shortage of Engineering students, which is down to a shortage of teachers. We’ll explore how this impacts student diversity and what Engineering academics can do about it. This event is free and open to both EPC members and non-members. To register, simply […]
DTSTART:20230125T133000
DTEND:20230125T150000
LOCATION:Online via Zoom
SUMMARY;LANGUAGE=en-us:Why the STEM teacher shortage is our problem (and what we can do about it)
END:VEVENT
END:VCALENDAR