BEGIN:VCALENDAR
VERSION:2.0
TZID:Europe/London
BEGIN:VEVENT
CLASS:PUBLIC
DESCRIPTION:This is not an EPC-run event. Please click the ‘Register’ button below to book onto the event.
DTSTART:20230117T091500
DTEND:20230118T163000
LOCATION:Canterbury Christ Church University\, Verena Holmes\, North Holmes Rd Canterbury\, Kent CT11QU United Kingdom
SUMMARY;LANGUAGE=en-us:CDIO EU and UK Regional Meeting
END:VEVENT
END:VCALENDAR