BEGIN:VCALENDAR
VERSION:2.0
TZID:Europe/London
BEGIN:VEVENT
CLASS:PUBLIC
DESCRIPTION:Come along and hear about three Erasmus + Engineering Education Projects currently ongoing by CREATE researchers in TU Dublin.  Everyone welcome! To register please complete the registration form to receive a Teams link: Registration Form
DTSTART:20221124T130000
DTEND:20221124T140000
LOCATION:Online via Zoom
SUMMARY;LANGUAGE=en-us:TU Dublin: CREATE Research Group Seminar
END:VEVENT
END:VCALENDAR