BEGIN:VCALENDAR
VERSION:2.0
TZID:Europe/London
BEGIN:VEVENT
CLASS:PUBLIC
DESCRIPTION:The National Academies are hosting a series of four Policy Lab events considering the landscape for UK research and innovation after the 2015 Spending Review. This event will explore how the UK’s research excellence can be maintained and improved, as the structures that govern and fund it undergo a period of significant change. This event […]
DTSTART:20160418T000000
DTEND:20160418T000000
LOCATION:British Academy: 10-11 Carlton House Terrace\, London\, United Kingdom
SUMMARY;LANGUAGE=en-us:Policy Lab: Building a better research system? Supporting excellence in post-Nurse structures
END:VEVENT
END:VCALENDAR