BEGIN:VCALENDAR
VERSION:2.0
TZID:Europe/London
BEGIN:VEVENT
CLASS:PUBLIC
DESCRIPTION:The Recruitment and Admissions Forum took place at the Royal Academy of Engineering on 7th November 2012.  The theme was "Uncertain times in university recruitment and admissions: protecting the future supply of graduate engineers".
DTSTART:20121107T000000
DTEND:20121107T000000
LOCATION:The Royal Academy of Engineering
SUMMARY;LANGUAGE=en-us:Recruitment and Admissions Forum 2012
END:VEVENT
END:VCALENDAR