BEGIN:VCALENDAR
VERSION:2.0
TZID:Europe/London
BEGIN:VEVENT
CLASS:PUBLIC
DESCRIPTION:The Manufacturing Industry Education Research Group (MIERG) at the Institute for Manufacturing is hosting the 3rd Annual Engineering Education Research (EER) Network Symposium in Cambridge. The EER Network used to be known as the EER SIG when it was supported by the HEA. As many of you are aware, the HEA is now focused on a […]
DTSTART:20151105T000000
DTEND:20151106T000000
LOCATION:Institute for Manufacturing: Alan Reece Building\, 17 Charles Babbage Road\,  Cambridge CB3 0FS\, United Kingdom
SUMMARY;LANGUAGE=en-us:3rd Annual Engineering Education Research (EER) Network Symposium
END:VEVENT
END:VCALENDAR