BEGIN:VCALENDAR
VERSION:2.0
TZID:Europe/London
BEGIN:VEVENT
CLASS:PUBLIC
DESCRIPTION:Registration is now open for the “Engineering Ethics: Maintaining society’s trust in the Engineering Profession” report launch webinar. This event marks the publication of this important work produced the Engineering Ethics Reference Group (a joint committee of the Royal Academy of Engineering and the Engineering Council).   Ethical practice has long been part of the […]
DTSTART:20220221T000000
DTEND:20220221T000000
LOCATION:
SUMMARY;LANGUAGE=en-us:RAEng Engineering Ethics Report Launch Webinar
END:VEVENT
END:VCALENDAR